BEGIN:VCALENDAR
VERSION:2.0
PRODID:-//The Federation of Texas A&amp;M University Mothers&#039; Clubs - ECPv6.15.17.1//NONSGML v1.0//EN
CALSCALE:GREGORIAN
METHOD:PUBLISH
X-WR-CALNAME:The Federation of Texas A&amp;M University Mothers&#039; Clubs
X-ORIGINAL-URL:https://aggiemoms.org
X-WR-CALDESC:Events for The Federation of Texas A&amp;M University Mothers&#039; Clubs
REFRESH-INTERVAL;VALUE=DURATION:PT1H
X-Robots-Tag:noindex
X-PUBLISHED-TTL:PT1H
BEGIN:VTIMEZONE
TZID:America/Chicago
BEGIN:DAYLIGHT
TZOFFSETFROM:-0600
TZOFFSETTO:-0500
TZNAME:CDT
DTSTART:20250309T080000
END:DAYLIGHT
BEGIN:STANDARD
TZOFFSETFROM:-0500
TZOFFSETTO:-0600
TZNAME:CST
DTSTART:20251102T070000
END:STANDARD
BEGIN:DAYLIGHT
TZOFFSETFROM:-0600
TZOFFSETTO:-0500
TZNAME:CDT
DTSTART:20260308T080000
END:DAYLIGHT
BEGIN:STANDARD
TZOFFSETFROM:-0500
TZOFFSETTO:-0600
TZNAME:CST
DTSTART:20261101T070000
END:STANDARD
BEGIN:DAYLIGHT
TZOFFSETFROM:-0600
TZOFFSETTO:-0500
TZNAME:CDT
DTSTART:20270314T080000
END:DAYLIGHT
BEGIN:STANDARD
TZOFFSETFROM:-0500
TZOFFSETTO:-0600
TZNAME:CST
DTSTART:20271107T070000
END:STANDARD
END:VTIMEZONE
BEGIN:VEVENT
DTSTART;VALUE=DATE:20260422
DTEND;VALUE=DATE:20260423
DTSTAMP:20260422T024132
CREATED:20260310T192937Z
LAST-MODIFIED:20260310T193039Z
UID:19315-1776816000-1776902399@aggiemoms.org
SUMMARY:Finals Goody Bag Distribution
DESCRIPTION:Day 1 of 5 \nCheck your local club for event times and exact location on the 2nd floor of MSC
URL:https://aggiemoms.org/calendar/finals-goody-bag-distribution/
LOCATION:Memorial Student Center MSC\, 275 Joe Routt Blvd\, College Station\, TX\, 77840
END:VEVENT
END:VCALENDAR